BEGIN:VCALENDAR
VERSION:2.0
PRODID:-//The Girls Estate Sales - ECPv6.15.20//NONSGML v1.0//EN
CALSCALE:GREGORIAN
METHOD:PUBLISH
X-WR-CALNAME:The Girls Estate Sales
X-ORIGINAL-URL:https://thegirlsestatesales.com
X-WR-CALDESC:Events for The Girls Estate Sales
REFRESH-INTERVAL;VALUE=DURATION:PT1H
X-Robots-Tag:noindex
X-PUBLISHED-TTL:PT1H
BEGIN:VTIMEZONE
TZID:America/Phoenix
BEGIN:STANDARD
TZOFFSETFROM:-0700
TZOFFSETTO:-0700
TZNAME:MST
DTSTART:20250101T000000
END:STANDARD
END:VTIMEZONE
BEGIN:VEVENT
DTSTART;TZID=America/Phoenix:20260103T080000
DTEND;TZID=America/Phoenix:20260103T150000
DTSTAMP:20260420T071040
CREATED:20251126T205631Z
LAST-MODIFIED:20251126T205631Z
UID:5737-1767427200-1767452400@thegirlsestatesales.com
SUMMARY:Greasewood & Anklam
DESCRIPTION:
URL:https://thegirlsestatesales.com/event/greasewood-anklam/
END:VEVENT
BEGIN:VEVENT
DTSTART;TZID=America/Phoenix:20260110T080000
DTEND;TZID=America/Phoenix:20260110T150000
DTSTAMP:20260420T071040
CREATED:20251126T205758Z
LAST-MODIFIED:20251218T195754Z
UID:5739-1768032000-1768057200@thegirlsestatesales.com
SUMMARY:Broadway & Houghton
DESCRIPTION:
URL:https://thegirlsestatesales.com/event/broadway-houghton-5/
END:VEVENT
BEGIN:VEVENT
DTSTART;TZID=America/Phoenix:20260117T080000
DTEND;TZID=America/Phoenix:20260117T150000
DTSTAMP:20260420T071040
CREATED:20251224T173445Z
LAST-MODIFIED:20251224T173445Z
UID:5795-1768636800-1768662000@thegirlsestatesales.com
SUMMARY:Valencia & Swan
DESCRIPTION:
URL:https://thegirlsestatesales.com/event/valencia-swan/
END:VEVENT
BEGIN:VEVENT
DTSTART;TZID=America/Phoenix:20260124T080000
DTEND;TZID=America/Phoenix:20260124T150000
DTSTAMP:20260420T071040
CREATED:20260115T200605Z
LAST-MODIFIED:20260115T200605Z
UID:5835-1769241600-1769266800@thegirlsestatesales.com
SUMMARY:22nd & Wilmot
DESCRIPTION:
URL:https://thegirlsestatesales.com/event/22nd-wilmot-2/
END:VEVENT
BEGIN:VEVENT
DTSTART;TZID=America/Phoenix:20260131T080000
DTEND;TZID=America/Phoenix:20260131T150000
DTSTAMP:20260420T071040
CREATED:20251126T205855Z
LAST-MODIFIED:20251126T205855Z
UID:5740-1769846400-1769871600@thegirlsestatesales.com
SUMMARY:Harrison & 29th
DESCRIPTION:
URL:https://thegirlsestatesales.com/event/harrison-29th-2/
END:VEVENT
END:VCALENDAR