BEGIN:VCALENDAR
VERSION:2.0
PRODID:-//The Girls Estate Sales - ECPv6.15.20//NONSGML v1.0//EN
CALSCALE:GREGORIAN
METHOD:PUBLISH
X-ORIGINAL-URL:https://thegirlsestatesales.com
X-WR-CALDESC:Events for The Girls Estate Sales
REFRESH-INTERVAL;VALUE=DURATION:PT1H
X-Robots-Tag:noindex
X-PUBLISHED-TTL:PT1H
BEGIN:VTIMEZONE
TZID:America/Phoenix
BEGIN:STANDARD
TZOFFSETFROM:-0700
TZOFFSETTO:-0700
TZNAME:MST
DTSTART:20240101T000000
END:STANDARD
END:VTIMEZONE
BEGIN:VEVENT
DTSTART;TZID=America/Phoenix:20251220T080000
DTEND;TZID=America/Phoenix:20251220T150000
DTSTAMP:20260420T054653
CREATED:20251211T181832Z
LAST-MODIFIED:20251211T181832Z
UID:5769-1766217600-1766242800@thegirlsestatesales.com
SUMMARY:Speedway & Swan
DESCRIPTION:
URL:https://thegirlsestatesales.com/event/speedway-swan/
END:VEVENT
BEGIN:VEVENT
DTSTART;TZID=America/Phoenix:20251227T080000
DTEND;TZID=America/Phoenix:20251227T150000
DTSTAMP:20260420T054653
CREATED:20251218T201217Z
LAST-MODIFIED:20251218T201217Z
UID:5786-1766822400-1766847600@thegirlsestatesales.com
SUMMARY:22nd & Country Club
DESCRIPTION:
URL:https://thegirlsestatesales.com/event/22nd-country-club/
END:VEVENT
END:VCALENDAR