BEGIN:VCALENDAR
VERSION:2.0
PRODID:-//The Girls Estate Sales - ECPv6.15.20//NONSGML v1.0//EN
CALSCALE:GREGORIAN
METHOD:PUBLISH
X-WR-CALNAME:The Girls Estate Sales
X-ORIGINAL-URL:https://thegirlsestatesales.com
X-WR-CALDESC:Events for The Girls Estate Sales
REFRESH-INTERVAL;VALUE=DURATION:PT1H
X-Robots-Tag:noindex
X-PUBLISHED-TTL:PT1H
BEGIN:VTIMEZONE
TZID:America/Phoenix
BEGIN:STANDARD
TZOFFSETFROM:-0700
TZOFFSETTO:-0700
TZNAME:MST
DTSTART:20240101T000000
END:STANDARD
END:VTIMEZONE
BEGIN:VEVENT
DTSTART;TZID=America/Phoenix:20251101T080000
DTEND;TZID=America/Phoenix:20251101T150000
DTSTAMP:20260420T035919
CREATED:20250828T201435Z
LAST-MODIFIED:20250828T201435Z
UID:5544-1761984000-1762009200@thegirlsestatesales.com
SUMMARY:Broadway & Swan
DESCRIPTION:
URL:https://thegirlsestatesales.com/event/broadway-swan/
END:VEVENT
BEGIN:VEVENT
DTSTART;TZID=America/Phoenix:20251105T170000
DTEND;TZID=America/Phoenix:20251105T200000
DTSTAMP:20260420T035919
CREATED:20251023T194027Z
LAST-MODIFIED:20251023T194027Z
UID:5666-1762362000-1762372800@thegirlsestatesales.com
SUMMARY:Junk In The Trunk
DESCRIPTION:
URL:https://thegirlsestatesales.com/event/junk-in-the-trunk/
LOCATION:The Girls Estate Sales\, 330 S Wilmot RD\, Tucson\, AZ\, 85711\, United States
END:VEVENT
BEGIN:VEVENT
DTSTART;TZID=America/Phoenix:20251107T080000
DTEND;TZID=America/Phoenix:20251107T150000
DTSTAMP:20260420T035919
CREATED:20250828T201545Z
LAST-MODIFIED:20250828T201545Z
UID:5545-1762502400-1762527600@thegirlsestatesales.com
SUMMARY:Grant & Mountain
DESCRIPTION:
URL:https://thegirlsestatesales.com/event/grant-mountain/
END:VEVENT
BEGIN:VEVENT
DTSTART;TZID=America/Phoenix:20251108T080000
DTEND;TZID=America/Phoenix:20251108T150000
DTSTAMP:20260420T035919
CREATED:20250828T201632Z
LAST-MODIFIED:20250828T201632Z
UID:5546-1762588800-1762614000@thegirlsestatesales.com
SUMMARY:Kolb & Escalante
DESCRIPTION:
URL:https://thegirlsestatesales.com/event/kolb-escalante/
END:VEVENT
BEGIN:VEVENT
DTSTART;TZID=America/Phoenix:20251115T080000
DTEND;TZID=America/Phoenix:20251115T150000
DTSTAMP:20260420T035919
CREATED:20250828T201728Z
LAST-MODIFIED:20250828T201728Z
UID:5547-1763193600-1763218800@thegirlsestatesales.com
SUMMARY:Craycroft & Territory
DESCRIPTION:
URL:https://thegirlsestatesales.com/event/craycroft-territory-4/
END:VEVENT
BEGIN:VEVENT
DTSTART;TZID=America/Phoenix:20251122T080000
DTEND;TZID=America/Phoenix:20251122T150000
DTSTAMP:20260420T035919
CREATED:20251020T161347Z
LAST-MODIFIED:20251020T161347Z
UID:5655-1763798400-1763823600@thegirlsestatesales.com
SUMMARY:Ina & LaCanada
DESCRIPTION:
URL:https://thegirlsestatesales.com/event/ina-lacanada/
END:VEVENT
BEGIN:VEVENT
DTSTART;TZID=America/Phoenix:20251129T080000
DTEND;TZID=America/Phoenix:20251129T150000
DTSTAMP:20260420T035919
CREATED:20251016T185527Z
LAST-MODIFIED:20251016T185527Z
UID:5653-1764403200-1764428400@thegirlsestatesales.com
SUMMARY:1st & Tangerine
DESCRIPTION:
URL:https://thegirlsestatesales.com/event/1st-tangerine-4/
END:VEVENT
BEGIN:VEVENT
DTSTART;TZID=America/Phoenix:20251129T080000
DTEND;TZID=America/Phoenix:20251129T160000
DTSTAMP:20260420T035919
CREATED:20251020T161445Z
LAST-MODIFIED:20251020T161445Z
UID:5656-1764403200-1764432000@thegirlsestatesales.com
SUMMARY:The Girls Monthly Market & Shopping Extravaganza!
DESCRIPTION:
URL:https://thegirlsestatesales.com/event/the-girls-monthly-market-shopping-extravaganza/
END:VEVENT
BEGIN:VEVENT
DTSTART;TZID=America/Phoenix:20251129T090000
DTEND;TZID=America/Phoenix:20251129T160000
DTSTAMP:20260420T035919
CREATED:20251023T194350Z
LAST-MODIFIED:20251023T194350Z
UID:5668-1764406800-1764432000@thegirlsestatesales.com
SUMMARY:The Girls Monthly Market
DESCRIPTION:
URL:https://thegirlsestatesales.com/event/the-girls-monthly-market/
LOCATION:The Girls Estate Sales\, 330 S Wilmot RD\, Tucson\, AZ\, 85711\, United States
END:VEVENT
END:VCALENDAR